BEGIN:VCALENDAR
VERSION:2.0
PRODID:-//2PAARSchultern - ECPv6.2.0.1//NONSGML v1.0//EN
CALSCALE:GREGORIAN
METHOD:PUBLISH
X-ORIGINAL-URL:https://www.2paarschultern.de
X-WR-CALDESC:Veranstaltungen für 2PAARSchultern
REFRESH-INTERVAL;VALUE=DURATION:PT1H
X-Robots-Tag:noindex
X-PUBLISHED-TTL:PT1H
BEGIN:VTIMEZONE
TZID:Europe/Berlin
BEGIN:DAYLIGHT
TZOFFSETFROM:+0100
TZOFFSETTO:+0200
TZNAME:CEST
DTSTART:20240331T010000
END:DAYLIGHT
BEGIN:STANDARD
TZOFFSETFROM:+0200
TZOFFSETTO:+0100
TZNAME:CET
DTSTART:20241027T010000
END:STANDARD
END:VTIMEZONE
BEGIN:VEVENT
DTSTART;TZID=Europe/Berlin:20240123T100000
DTEND;TZID=Europe/Berlin:20240123T110000
DTSTAMP:20260426T063205
CREATED:20231214T111016Z
LAST-MODIFIED:20231214T111016Z
UID:1419-1706004000-1706007600@www.2paarschultern.de
SUMMARY:Infoveranstaltung zum Antisexismustraining für Unternehmen
DESCRIPTION:Sexismus ist tief in unserer Gesellschaft verankert. Wir sind alle damit groß geworden und niemand kann ihn am Firmentor abgeben. Somit ist er auch in den Unternehmen drin. Viele sehen ihn nicht\, aber mindestens genauso viele spüren ihn und seine Auswirkungen. Er führt von Unbehagen bis zu Angst\, verletzt\, verhindert Karrieren und grenzt aus. Am liebsten würden viele Unternehmen gar nicht darüber sprechen. Klar\, es ist kein angenehmes Thema. Aber möchte man als Führungskraft wirklich\, dass Menschen sich in den eigenen Reihen unwohl fühlen und womöglich am liebsten weg wollen? \nUnternehmen können und müssen heute vieles tun um eine Arbeitsumgebung zu schaffen\, in der sich alle Mitarbeitenden wohlfühlen. In Form von Keynotes\, Workshops und Trainings unterstützen wir Sie dabei\, wirksame Strukturen in Ihrer Organisation aufzubauen und ein Bewußtsein für das Thema Sexismus zu fördern. \nIn dieser Informationsveranstaltung lernen Sie das Trainingstandem Dr. Alena Sander und Robert Frischbier näher kennen und Sie erfahren\, wie Ihre Arbeit zur präventiven Verhinderung von Sexismus in Ihrem Unternehmen aussehen kann.
URL:https://www.2paarschultern.de/termin/infoveranstaltung-zum-antisexismustraining-fuer-unternehmen/
LOCATION:online
ATTACH;FMTTYPE=image/jpeg:https://www.2paarschultern.de/wp-content/uploads/2023/12/1684470456075-scaled-e1702549269168.jpg
END:VEVENT
END:VCALENDAR